Workbook

Sheet Печать
A11: Приложение № 1 к Договору №
A12: от «20» Января 2025 г.
A14: Адрес объекта:
A16: СПИСОК ПОМЕЩЕНИЙ:
B17: Помещение №1: Кухня-гостиная; высота: 3,1м.; площадь: 26,372кв.м.; периметр: 21,48м; площадь стен (с вычетом проемов): 51,9563 кв.м.; окон: 3; дверей: 1
B18: Помещение №2: Спальня 1; высота: 3,1м.; площадь: 11,55кв.м.; периметр: 13,7м; площадь стен (с вычетом проемов): 36,7784 кв.м.; окон: 1; дверей: 1
B19: Помещение №3: Спальня 2; высота: 3,1м.; площадь: 11,935кв.м.; периметр: 13,9м; площадь стен (с вычетом проемов): 34,9962 кв.м.; окон: 2; дверей: 1
B20: Помещение №4: Коридор; высота: 3,1м.; площадь: 11,2695кв.м.; периметр: 16,96м; площадь стен (с вычетом проемов): 30,868 кв.м.; окон: 0; дверей: 7
B21: Помещение №5: Гардеробная; высота: 3,1м.; площадь: 5,394кв.м.; периметр: 10,06м; площадь стен (с вычетом проемов): 20,398 кв.м.; окон: 0; дверей: 1
B22: Помещение №6: Санузел 1; высота: 3,1м.; площадь: 2,84кв.м.; периметр: 6,84м; площадь стен (с вычетом проемов): 19,524 кв.м.; окон: 0; дверей: 1
B23: Помещение №7: Санузел 2; высота: 3,1м.; площадь: 5,588кв.м.; периметр: 9,48м; площадь стен (с вычетом проемов): 27,708 кв.м.; окон: 0; дверей: 1
B24: Помещение №8: Постирочная; высота: 3,1м.; площадь: 2,5кв.м.; периметр: 7м; площадь стен (с вычетом проемов): 20,02 кв.м.; окон: 0; дверей: 1
A26: № | B26: Наименование работ | C26: Ед. Изм. | D26: Кол-во | E26: Стоимость работ | F26: Сумма по работам | G26: Стоимость работ со скидкой | H26: Скидка | I26: Сумма по работам со скидкой
A27: 1 | B27: 2 | C27: 3 | D27: 4 | E27: 5 | F27: 6 | G27: 7 | H27: 8 | I27: 9
A28: ПОТОЛКИ
A29: 2. Монтажные работы (потолки)
A30: 2.3 | B30: Базовая шпатлёвка потолка 1 слой | C30: м² | D30: 60.8 | E30: 578 | F30: 35142.4 | G30: 491.3 | H30: 5271.36 | I30: 29871.04
A31: 2.6 | B31: Устройство подвесного потолка из гипсокартона (2 слоя) одноуровневый | C31: м² | D31: 16.6 | E31: 4543 | F31: 75413.8 | G31: 3861.55 | H31: 11312.07 | I31: 64101.73
A32: 2.10 | B32: Грунтовка потолка 1 слой | C32: м² | D32: 155 | E32: 159 | F32: 24645 | G32: 135.15 | H32: 3696.75 | I32: 20948.25
A33: 2.11 | B33: Штукатурка потолка до 20 мм (от 20 до 30 мм - коэффициент 1,5) | C33: м² | D33: 60.8 | E33: 2563 | F33: 155830.4 | G33: 2178.55 | H33: 23374.56 | I33: 132455.84
A34: 2.12 | B34: Шпатлёвка потолка под окраску 2 слоя | C34: м² | D34: 77.5 | E34: 1200 | F34: 93000 | G34: 1020 | H34: 13950 | I34: 79050
A35: 2.15 | B35: Окраска потолка 2 слоя | C35: м² | D35: 77.5 | E35: 796 | F35: 61690 | G35: 676.6 | H35: 9253.5 | I35: 52436.5
A36: 2.19 | B36: Оклейка потолка сеткой «строби», «паутинка», /пароизоляция потолка/обои,«стеклохолст» К-1,7 | C36: м² | D36: 77.5 | E36: 620 | F36: 48050 | G36: 527 | H36: 7207.5 | I36: 40842.5
A37: 2.24 | B37: Ошкуривание потолка 1 раз | C37: м² | D37: 138 | E37: 441 | F37: 60858 | G37: 374.85 | H37: 9128.7 | I37: 51729.3
A38: 2.32 | B38: Проклейка швов ГКЛВ потолка с армированием перфорированной лентой (Кнауф) | C38: п.м | D38: 15 | E38: 231 | F38: 3465 | G38: 196.35 | H38: 519.75 | I38: 2945.25
A39: Итого по: Монтажные работы (потолки) | F39: 558094.6 | H39: 83714.19 | I39: 474380.41
A40: Итого по разделу: Потолки | F40: 558094.6 | H40: 83714.19 | I40: 474380.41
A41: СТЕНЫ, СТОЛЯРНЫЕ РАБОТЫ
A42: 3. Демонтажные работы ( стены, столярные работы)
A43: 3.21 | B43: Демонтаж с откосов ВЭ краски/шпаклевки. Штукатурки, масл. Краски К-1,3 | C43: п.м | D43: 10 | E43: 257 | F43: 2570 | G43: 218.45 | H43: 385.5 | I43: 2184.5
A44: Итого по: Демонтажные работы ( стены, столярные работы) | F44: 2570 | H44: 385.5 | I44: 2184.5
A45: 4. Монтажные работы (стены,столярные работы)
A46: 4.1 | B46: Оклейка стен сеткой «строби», «паутинка», «стеклохолст»/пароизоляция стен | C46: м² | D46: 15 | E46: 496 | F46: 7440 | G46: 421.6 | H46: 1116 | I46: 6324
A47: 4.3 | B47: Усиление проёмов металлическим уголком с огрунтовкой | C47: п.м | D47: 7.4 | E47: 1496 | F47: 11070.4 | G47: 1271.6 | H47: 1660.56 | I47: 9409.84
A48: 4.9 | B48: Устройство перегородок из газо/пеноблоков, пазогребневых блоков | C48: м² | D48: 75 | E48: 1809 | F48: 135675 | G48: 1537.65 | H48: 20351.25 | I48: 115323.75
A49: 4.14 | B49: Базовая шпатлёвка 1 слой | C49: м² | D49: 15 | E49: 565 | F49: 8475 | G49: 480.25 | H49: 1271.25 | I49: 7203.75
A50: 4.17 | B50: Устройство прямолинейного короба из ГКЛ (2 слоя) Г-образного сечения | C50: п.м | D50: 6 | E50: 2165 | F50: 12990 | G50: 1840.25 | H50: 1948.5 | I50: 11041.5
A51: 4.22 | B51: Гидроизоляция стен (в 2 слоя) | C51: м² | D51: 47 | E51: 675 | F51: 31725 | G51: 573.75 | H51: 4758.75 | I51: 26966.25
A52: 4.24 | B52: Заделка швов ГКЛ стен и потолка | C52: п.м | D52: 15 | E52: 168 | F52: 2520 | G52: 142.8 | H52: 378 | I52: 2142
A53: 4.25 | B53: Заделка штробы | C53: п.м | D53: 78 | E53: 311 | F53: 24258 | G53: 264.35 | H53: 3638.7 | I53: 20619.3
...

Sheet Замер
A1: v2-20241208
B2: Заказчик
B3: ФИО | M3: =IF(ISBLANK($D3),1,0) -> 1
B4: Паспорт серия | L4: =IF(ISBLANK($D4),1,0) -> 1
B5: Паспорт номер | L5: =IF(ISBLANK($D5),1,0) -> 1
B6: Паспорт выдан | L6: =IF(ISBLANK($D6),1,0) -> 1
B7: Дата выдачи | L7: =IF(ISBLANK($D7),1,0) -> 1
B8: Код подразделения | L8: =IF(ISBLANK($D8),1,0) -> 1
B9: Адрес прописки | L9: =IF(ISBLANK($D9),1,0) -> 1
B10: Объект
B11: Адрес объекта | L11: =IF(ISBLANK($D11),1,0) -> 1 | M11: =IF(ISBLANK($D11),1,0) -> 1
B12: Номер договора | L12: =IF(ISBLANK($D12),1,0) -> 1
B13: Дата заключения | L13: =IF(ISBLANK($D13),1,0) -> 1
B14: Предварительный срок начала работ | L14: =IF(ISBLANK($D14),1,0) -> 1
B15: Предварительный срок окончания работ | L15: =IF(ISBLANK($D15),1,0) -> 1
B16: Замерщик | L16: =IF(ISBLANK($D16),1,0) -> 1 | M16: =IF(ISBLANK($D16),1,0) -> 1
B17: Прораб | L17: =IF(ISBLANK($D17),1,0) -> 1
L18: =SUM(L3:L17) -> 13 | M18: =SUM(M3:M16) -> 3
B20: Комната 1 | H20: Считать в смете | J20: Да | K20: Комната_1 | M20: 20
C21: Название | D21: Кухня-гостиная
C22: Комментарий
C23: Длина | D23: 6.94 | F23: Окна | H23: высота | I23: ширина | J23: глубина
C24: Ширина | D24: 3.8 | G24: оконный проем 1 | H24: 2.15 | I24: 1.75 | J24: 0
C25: Высота | D25: 3.1 | G25: оконный проем 2 | H25: 2.15 | I25: 2.4 | J25: 0
C26: Площадь пола/потолка | D26: =D23*D24 -> 26.372 | G26: оконный проем 3 | H26: 1.76 | I26: 2.17 | J26: 0
C27: Периметр пола/потолка | D27: =(D23+D24)*2 -> 21.48 | G27: оконный проем 4 | H27: 0 | I27: 0 | J27: 0
C28: Площадь стен до вычета проемов | D28: =D27*D25 -> 66.588 | G28: оконный проем 5 | H28: 0 | I28: 0 | J28: 0
C29: Площадь стен с вычетом проемов | D29: =D28-D32-D33 -> 51.9563 | G29: оконный проем 6 | H29: 0 | I29: 0 | J29: 0
C30: Количество окон в помещении | D30: =COUNTIF(H24:H29,">0") -> 3 | F30: Двери | H30: высота | I30: ширина | J30: глубина
C31: Количество дверей в помещении | D31: =COUNTIF(H31:H37,">0") -> 1 | G31: дверной проем 1 | H31: 2.1 | I31: 0.9 | J31: 0
C32: Площадь оконных проемов | D32: =H24*I24+H25*I25+H26*I26+H27*I27+H28*I28+H29*I29 -> 12.7417 | G32: дверной проем 2 | H32: 0 | I32: 0 | J32: 0
C33: Площадь дверных проемов | D33: =H31*I31+H32*I32+H33*I33+H34*I34+H35*I35+H36*I36+H37*I37 -> 1.89 | G33: дверной проем 3 | H33: 0 | I33: 0 | J33: 0
C34: Периметр оконных откосов | D34: =SUM(H24:H29)*2+SUM(I24:I29) -> 18.44 | G34: дверной проем 4 | H34: 0 | I34: 0 | J34: 0
C35: Периметр дверных откосов | D35: =SUM(H31:H37)*2+SUM(I31:I37) -> 5.1 | G35: дверной проем 5 | H35: 0 | I35: 0 | J35: 0
C36: Периметр откосов | D36: =D34+D35 -> 23.54 | G36: дверной проем 6 | H36: 0 | I36: 0 | J36: 0
C37: Подоконники | D37: =SUM(I24:I29) -> 6.32 | G37: дверной проем 7 | H37: 0 | I37: 0 | J37: 0
B40: Комната 2 | H40: Считать в смете | J40: Да | K40: Комната_2 | M40: 40
C41: Название | D41: Спальня 1
C42: Комментарий
C43: Длина | D43: 3.85 | F43: Окна | H43: высота | I43: ширина | J43: глубина
...

Sheet Сводная
S1: Помещение_1 | W1: Помещение_2 | AA1: Помещение_3 | AE1: Помещение_4 | AI1: Помещение_5 | AM1: Помещение_6 | AQ1: Помещение_7 | AU1: Помещение_8 | AY1: Помещение_9 | BC1: Помещение_10 | BG1: Помещение_11 | BK1: Помещение_12 | BO1: Помещение_13 | BS1: Помещение_14 | BW1: Помещение_15 | CA1: Помещение_16 | CE1: Помещение_17 | CI1: Помещение_18 | CM1: Помещение_19 | CQ1: Помещение_20
B2: Скидка | U2: 20 | Y2: 40 | AC2: 60 | AG2: 80 | AK2: 100 | AO2: 120 | AS2: 140 | AW2: 160 | BA2: 180 | BE2: 200 | BI2: 220 | BM2: 240 | BQ2: 260 | BU2: 280 | BY2: 300 | CC2: 320 | CG2: 340 | CK2: 360 | CO2: 380 | CS2: 400
B3: 0.15
B11: 1 | C11: Потолки | L11: g | N11: =N60 -> 474380.41
B12: 1 | C12: 1. Демонтажные работы (потолки) | E12: ед. изм. | F12: цена | G12: кол-во | H12: сумма | L12: t | N12: =N21 -> 0
B13: =P13 -> 0 | C13: 1.1 | D13: =VLOOKUP(C13,СписокРабот!$B:$E,2,FALSE()) -> Демонтаж подвесного шкафа (тип - антресоль) | E13: =VLOOKUP(C13,СписокРабот!$B:$E,3,FALSE()) -> ед. | F13: =VLOOKUP(C13,СписокРабот!$B:$E,4,FALSE()) -> 1164 | G13: =Q13 -> 0 | H13: =F13*G13 -> 0 | M13: =$F13*(100%-$B$3) -> 989.4 | N13: =$G13*$M13 -> 0 | P13: =MAX(S13,W13,AA13,AE13,AI13,AM13,AQ13,AU13,AY13,BC13,BG13,BK13,BO13,BS13,BW13,CA13,CE13,CI13,CM13,CQ13) -> 0 | Q13: =IF($S13,T13,0)+IF($W13,X13,0)+IF($AA13,AB13,0)+IF($AE13,AF13,0)+IF($AI13,AJ13,0)+IF($AM13,AN13,0)+IF($AQ13,AR13,0)+IF($AU13,AV13,0)+IF($AY13,AZ13,0)+IF($BC13,BD13,0)+IF($BG13,BH13,0)+IF($BK13,BL13,0)+IF($BO13,BP13,0)+IF($BS13,BT13,0)+IF($BW13,BX13,0)+IF($CA13,CB13,0)+IF($CE13,CF13,0)+IF($CI13,CJ13,0)+IF($CM13,CN13,0)+IF($CQ13,CR13,0) -> 0 | R13: =IF($S13=1,U13,0)+IF($W13,Y13,0)+IF($AA13,AC13,0)+IF($AE13,AG13,0)+IF($AI13,AK13,0)+IF($AM13,AO13,0)+IF($AQ13,AS13,0)+IF($AU13,AW13,0)+IF($AY13,BA13,0)+IF($BC13,BE13,0)+IF($BG13,BI13,0)+IF($BK13,BM13,0)+IF($BO13,BQ13,0)+IF($BS13,BU13,0)+IF($BW13,BY13,0)+IF($CA13,CC13,0)+IF($CE13,CG13,0)+IF($CI13,CK13,0)+IF($CM13,CO13,0)+IF($CQ13,CS13,0) -> 0 | S13: =IF(Замер!$J$20="да",Комната_1!$B13,0) -> 0 | T13: =IF(Замер!$J$20="да",Комната_1!$G13,0) -> 0 | U13: =IF(Замер!$J$20="да",Комната_1!$H13,0) -> 0 | W13: =IF(Замер!$J$40="да",Комната_2!$B13,0) -> 0 | X13: =IF(Замер!$J$40="да",Комната_2!$G13,0) -> 0 | Y13: =IF(Замер!$J$40="да",Комната_2!$H13,0) -> 0 | AA13: =IF(Замер!$J$60="да",Комната_3!$B13,0) -> 0 | AB13: =IF(Замер!$J$60="да",Комната_3!$G13,0) -> 0 | AC13: =IF(Замер!$J$60="да",Комната_3!$H13,0) -> 0 | AE13: =IF(Замер!$J$80="да",Комната_4!$B13,0) -> 0 | AF13: =IF(Замер!$J$80="да",Комната_4!$G13,0) -> 1 | AG13: =IF(Замер!$J$80="да",Комната_4!$H13,0) -> 1164 | AI13: =IF(Замер!$J$100="да",Комната_5!$B13,0) -> 0 | AJ13: =IF(Замер!$J$100="да",Комната_5!$G13,0) -> 1 | AK13: =IF(Замер!$J$100="да",Комната_5!$H13,0) -> 1164 | AM13: =IF(Замер!$J$120="да",Коридор!$B13,0) -> 0 | AN13: =IF(Замер!$J$120="да",Коридор!$G13,0) -> 1 | AO13: =IF(Замер!$J$120="да",Коридор!$H13,0) -> 1164 | AQ13: =IF(Замер!$J$140="да",Кухня!$B13,0) -> 0 | AR13: =IF(Замер!$J$140="да",Кухня!$G13,0) -> 1 | AS13: =IF(Замер!$J$140="да",Кухня!$H13,0) -> 1164 | AU13: =IF(Замер!$J$160="да",Ванна!$B13,0) -> 0 | AV13: =IF(Замер!$J$160="да",Ванна!$G13,0) -> 1 | AW13: =IF(Замер!$J$160="да",Ванна!$H13,0) -> 1164 | AY13: =IF(Замер!$J$180="да",Туалет!$B13,0) -> 0 | AZ13: =IF(Замер!$J$180="да",Туалет!$G13,0) -> 0 | BA13: =IF(Замер!$J$180="да",Туалет!$H13,0) -> 0 | BC13: =IF(Замер!$J$200="да",Балкон!$B13,0) -> 0 | BD13: =IF(Замер!$J$200="да",Балкон!$G13,0) -> 0 | BE13: =IF(Замер!$J$200="да",Балкон!$H13,0) -> 0 | BG13: =IF(Замер!$J$220="да",Помещение_11!$B13,0) -> 0 | BH13: =IF(Замер!$J$220="да",Помещение_11!$G13,0) -> 0 | BI13: =IF(Замер!$J$220="да",Помещение_11!$H13,0) -> 0 | BK13: =IF(Замер!$J$240="да",Помещение_12!$B13,0) -> 0 | BL13: =IF(Замер!$J$240="да",Помещение_12!$G13,0) -> 0 | BM13: =IF(Замер!$J$240="да",Помещение_12!$H13,0) -> 0 | BO13: =IF(Замер!$J$260="да",Помещение_13!$B13,0) -> 0 | BP13: =IF(Замер!$J$260="да",Помещение_13!$G13,0) -> 0 | BQ13: =IF(Замер!$J$260="да",Помещение_13!$H13,0) -> 0 | BS13: =IF(Замер!$J$280="да",Помещение_14!$B13,0) -> 0 | BT13: =IF(Замер!$J$280="да",Помещение_14!$G13,0) -> 0 | BU13: =IF(Замер!$J$280="да",Помещение_14!$H13,0) -> 0 | BW13: =IF(Замер!$J$300="да",Помещение_15!$B13,0) -> 0 | BX13: =IF(Замер!$J$300="да",Помещение_15!$G13,0) -> 0 | BY13: =IF(Замер!$J$300="да",Помещение_15!$H13,0) -> 0 | CA13: =IF(Замер!$J$320="да",Помещение_16!$B13,0) -> 0 | CB13: =IF(Замер!$J$320="да",Помещение_16!$G13,0) -> 0 | CC13: =IF(Замер!$J$320="да",Помещение_16!$H13,0) -> 0 | CE13: =IF(Замер!$J$340="да",Помещение_17!$B13,0) -> 0 | CF13: =IF(Замер!$J$340="да",Помещение_17!$G13,0) -> 0 | CG13: =IF(Замер!$J$340="да",Помещение_17!$H13,0) -> 0 | CI13: =IF(Замер!$J$360="да",Помещение_18!$B13,0) -> 0 | CJ13: =IF(Замер!$J$360="да",Помещение_18!$G13,0) -> 0 | CK13: =IF(Замер!$J$360="да",Помещение_18!$H13,0) -> 0 | CM13: =IF(Замер!$J$380="да",Помещение_19!$B13,0) -> 0 | CN13: =IF(Замер!$J$380="да",Помещение_19!$G13,0) -> 0 | CO13: =IF(Замер!$J$380="да",Помещение_19!$H13,0) -> 0 | CQ13: =IF(Замер!$J$400="да",Помещение_20!$B13,0) -> 0 | CR13: =IF(Замер!$J$400="да",Помещение_20!$G13,0) -> 0 | CS13: =IF(Замер!$J$400="да",Помещение_20!$H13,0) -> 0
B14: =P14 -> 0 | C14: 1.2 | D14: =VLOOKUP(C14,СписокРабот!$B:$E,2,FALSE()) -> Демонтаж вентиляционных коробов | E14: =VLOOKUP(C14,СписокРабот!$B:$E,3,FALSE()) -> п.м | F14: =VLOOKUP(C14,СписокРабот!$B:$E,4,FALSE()) -> 459 | G14: =Q14 -> 0 | H14: =F14*G14 -> 0 | M14: =$F14*(100%-$B$3) -> 390.15 | N14: =$G14*$M14 -> 0 | P14: =MAX(S14,W14,AA14,AE14,AI14,AM14,AQ14,AU14,AY14,BC14,BG14,BK14,BO14,BS14,BW14,CA14,CE14,CI14,CM14,CQ14) -> 0 | Q14: =IF($S14,T14,0)+IF($W14,X14,0)+IF($AA14,AB14,0)+IF($AE14,AF14,0)+IF($AI14,AJ14,0)+IF($AM14,AN14,0)+IF($AQ14,AR14,0)+IF($AU14,AV14,0)+IF($AY14,AZ14,0)+IF($BC14,BD14,0)+IF($BG14,BH14,0)+IF($BK14,BL14,0)+IF($BO14,BP14,0)+IF($BS14,BT14,0)+IF($BW14,BX14,0)+IF($CA14,CB14,0)+IF($CE14,CF14,0)+IF($CI14,CJ14,0)+IF($CM14,CN14,0)+IF($CQ14,CR14,0) -> 0 | R14: =IF($S14=1,U14,0)+IF($W14,Y14,0)+IF($AA14,AC14,0)+IF($AE14,AG14,0)+IF($AI14,AK14,0)+IF($AM14,AO14,0)+IF($AQ14,AS14,0)+IF($AU14,AW14,0)+IF($AY14,BA14,0)+IF($BC14,BE14,0)+IF($BG14,BI14,0)+IF($BK14,BM14,0)+IF($BO14,BQ14,0)+IF($BS14,BU14,0)+IF($BW14,BY14,0)+IF($CA14,CC14,0)+IF($CE14,CG14,0)+IF($CI14,CK14,0)+IF($CM14,CO14,0)+IF($CQ14,CS14,0) -> 0 | S14: =IF(Замер!$J$20="да",Комната_1!$B14,0) -> 0 | T14: =IF(Замер!$J$20="да",Комната_1!$G14,0) -> 0 | U14: =IF(Замер!$J$20="да",Комната_1!$H14,0) -> 0 | W14: =IF(Замер!$J$40="да",Комната_2!$B14,0) -> 0 | X14: =IF(Замер!$J$40="да",Комната_2!$G14,0) -> 0 | Y14: =IF(Замер!$J$40="да",Комната_2!$H14,0) -> 0 | AA14: =IF(Замер!$J$60="да",Комната_3!$B14,0) -> 0 | AB14: =IF(Замер!$J$60="да",Комната_3!$G14,0) -> 0 | AC14: =IF(Замер!$J$60="да",Комната_3!$H14,0) -> 0 | AE14: =IF(Замер!$J$80="да",Комната_4!$B14,0) -> 0 | AF14: =IF(Замер!$J$80="да",Комната_4!$G14,0) -> 0 | AG14: =IF(Замер!$J$80="да",Комната_4!$H14,0) -> 0 | AI14: =IF(Замер!$J$100="да",Комната_5!$B14,0) -> 0 | AJ14: =IF(Замер!$J$100="да",Комната_5!$G14,0) -> 0 | AK14: =IF(Замер!$J$100="да",Комната_5!$H14,0) -> 0 | AM14: =IF(Замер!$J$120="да",Коридор!$B14,0) -> 0 | AN14: =IF(Замер!$J$120="да",Коридор!$G14,0) -> 0 | AO14: =IF(Замер!$J$120="да",Коридор!$H14,0) -> 0 | AQ14: =IF(Замер!$J$140="да",Кухня!$B14,0) -> 0 | AR14: =IF(Замер!$J$140="да",Кухня!$G14,0) -> 0 | AS14: =IF(Замер!$J$140="да",Кухня!$H14,0) -> 0 | AU14: =IF(Замер!$J$160="да",Ванна!$B14,0) -> 0 | AV14: =IF(Замер!$J$160="да",Ванна!$G14,0) -> 0 | AW14: =IF(Замер!$J$160="да",Ванна!$H14,0) -> 0 | AY14: =IF(Замер!$J$180="да",Туалет!$B14,0) -> 0 | AZ14: =IF(Замер!$J$180="да",Туалет!$G14,0) -> 0 | BA14: =IF(Замер!$J$180="да",Туалет!$H14,0) -> 0 | BC14: =IF(Замер!$J$200="да",Балкон!$B14,0) -> 0 | BD14: =IF(Замер!$J$200="да",Балкон!$G14,0) -> 0 | BE14: =IF(Замер!$J$200="да",Балкон!$H14,0) -> 0 | BG14: =IF(Замер!$J$220="да",Помещение_11!$B14,0) -> 0 | BH14: =IF(Замер!$J$220="да",Помещение_11!$G14,0) -> 0 | BI14: =IF(Замер!$J$220="да",Помещение_11!$H14,0) -> 0 | BK14: =IF(Замер!$J$240="да",Помещение_12!$B14,0) -> 0 | BL14: =IF(Замер!$J$240="да",Помещение_12!$G14,0) -> 0 | BM14: =IF(Замер!$J$240="да",Помещение_12!$H14,0) -> 0 | BO14: =IF(Замер!$J$260="да",Помещение_13!$B14,0) -> 0 | BP14: =IF(Замер!$J$260="да",Помещение_13!$G14,0) -> 0 | BQ14: =IF(Замер!$J$260="да",Помещение_13!$H14,0) -> 0 | BS14: =IF(Замер!$J$280="да",Помещение_14!$B14,0) -> 0 | BT14: =IF(Замер!$J$280="да",Помещение_14!$G14,0) -> 0 | BU14: =IF(Замер!$J$280="да",Помещение_14!$H14,0) -> 0 | BW14: =IF(Замер!$J$300="да",Помещение_15!$B14,0) -> 0 | BX14: =IF(Замер!$J$300="да",Помещение_15!$G14,0) -> 0 | BY14: =IF(Замер!$J$300="да",Помещение_15!$H14,0) -> 0 | CA14: =IF(Замер!$J$320="да",Помещение_16!$B14,0) -> 0 | CB14: =IF(Замер!$J$320="да",Помещение_16!$G14,0) -> 0 | CC14: =IF(Замер!$J$320="да",Помещение_16!$H14,0) -> 0 | CE14: =IF(Замер!$J$340="да",Помещение_17!$B14,0) -> 0 | CF14: =IF(Замер!$J$340="да",Помещение_17!$G14,0) -> 0 | CG14: =IF(Замер!$J$340="да",Помещение_17!$H14,0) -> 0 | CI14: =IF(Замер!$J$360="да",Помещение_18!$B14,0) -> 0 | CJ14: =IF(Замер!$J$360="да",Помещение_18!$G14,0) -> 0 | CK14: =IF(Замер!$J$360="да",Помещение_18!$H14,0) -> 0 | CM14: =IF(Замер!$J$380="да",Помещение_19!$B14,0) -> 0 | CN14: =IF(Замер!$J$380="да",Помещение_19!$G14,0) -> 0 | CO14: =IF(Замер!$J$380="да",Помещение_19!$H14,0) -> 0 | CQ14: =IF(Замер!$J$400="да",Помещение_20!$B14,0) -> 0 | CR14: =IF(Замер!$J$400="да",Помещение_20!$G14,0) -> 0 | CS14: =IF(Замер!$J$400="да",Помещение_20!$H14,0) -> 0
B15: =P15 -> 0 | C15: 1.3 | D15: =VLOOKUP(C15,СписокРабот!$B:$E,2,FALSE()) -> Расчистка потолков от старой ВЭ краски / шпаклевки. От штукатурки, масл.краски К-1,3 | E15: =VLOOKUP(C15,СписокРабот!$B:$E,3,FALSE()) -> м² | F15: =VLOOKUP(C15,СписокРабот!$B:$E,4,FALSE()) -> 832 | G15: =Q15 -> 0 | H15: =F15*G15 -> 0 | M15: =$F15*(100%-$B$3) -> 707.2 | N15: =$G15*$M15 -> 0 | P15: =MAX(S15,W15,AA15,AE15,AI15,AM15,AQ15,AU15,AY15,BC15,BG15,BK15,BO15,BS15,BW15,CA15,CE15,CI15,CM15,CQ15) -> 0 | Q15: =IF($S15,T15,0)+IF($W15,X15,0)+IF($AA15,AB15,0)+IF($AE15,AF15,0)+IF($AI15,AJ15,0)+IF($AM15,AN15,0)+IF($AQ15,AR15,0)+IF($AU15,AV15,0)+IF($AY15,AZ15,0)+IF($BC15,BD15,0)+IF($BG15,BH15,0)+IF($BK15,BL15,0)+IF($BO15,BP15,0)+IF($BS15,BT15,0)+IF($BW15,BX15,0)+IF($CA15,CB15,0)+IF($CE15,CF15,0)+IF($CI15,CJ15,0)+IF($CM15,CN15,0)+IF($CQ15,CR15,0) -> 0 | R15: =IF($S15=1,U15,0)+IF($W15,Y15,0)+IF($AA15,AC15,0)+IF($AE15,AG15,0)+IF($AI15,AK15,0)+IF($AM15,AO15,0)+IF($AQ15,AS15,0)+IF($AU15,AW15,0)+IF($AY15,BA15,0)+IF($BC15,BE15,0)+IF($BG15,BI15,0)+IF($BK15,BM15,0)+IF($BO15,BQ15,0)+IF($BS15,BU15,0)+IF($BW15,BY15,0)+IF($CA15,CC15,0)+IF($CE15,CG15,0)+IF($CI15,CK15,0)+IF($CM15,CO15,0)+IF($CQ15,CS15,0) -> 0 | S15: =IF(Замер!$J$20="да",Комната_1!$B15,0) -> 0 | T15: =IF(Замер!$J$20="да",Комната_1!$G15,0) -> 26.4 | U15: =IF(Замер!$J$20="да",Комната_1!$H15,0) -> 21964.8 | W15: =IF(Замер!$J$40="да",Комната_2!$B15,0) -> 0 | X15: =IF(Замер!$J$40="да",Комната_2!$G15,0) -> 11.6 | Y15: =IF(Замер!$J$40="да",Комната_2!$H15,0) -> 9651.2 | AA15: =IF(Замер!$J$60="да",Комната_3!$B15,0) -> 0 | AB15: =IF(Замер!$J$60="да",Комната_3!$G15,0) -> 11.9 | AC15: =IF(Замер!$J$60="да",Комната_3!$H15,0) -> 9900.8 | AE15: =IF(Замер!$J$80="да",Комната_4!$B15,0) -> 0 | AF15: =IF(Замер!$J$80="да",Комната_4!$G15,0) -> 11.3 | AG15: =IF(Замер!$J$80="да",Комната_4!$H15,0) -> 9401.6 | AI15: =IF(Замер!$J$100="да",Комната_5!$B15,0) -> 0 | AJ15: =IF(Замер!$J$100="да",Комната_5!$G15,0) -> 5.4 | AK15: =IF(Замер!$J$100="да",Комната_5!$H15,0) -> 4492.8 | AM15: =IF(Замер!$J$120="да",Коридор!$B15,0) -> 0 | AN15: =IF(Замер!$J$120="да",Коридор!$G15,0) -> 2.8 | AO15: =IF(Замер!$J$120="да",Коридор!$H15,0) -> 2329.6 | AQ15: =IF(Замер!$J$140="да",Кухня!$B15,0) -> 0 | AR15: =IF(Замер!$J$140="да",Кухня!$G15,0) -> 5.6 | AS15: =IF(Замер!$J$140="да",Кухня!$H15,0) -> 4659.2 | AU15: =IF(Замер!$J$160="да",Ванна!$B15,0) -> 0 | AV15: =IF(Замер!$J$160="да",Ванна!$G15,0) -> 2.5 | AW15: =IF(Замер!$J$160="да",Ванна!$H15,0) -> 2080 | AY15: =IF(Замер!$J$180="да",Туалет!$B15,0) -> 0 | AZ15: =IF(Замер!$J$180="да",Туалет!$G15,0) -> 0 | BA15: =IF(Замер!$J$180="да",Туалет!$H15,0) -> 0 | BC15: =IF(Замер!$J$200="да",Балкон!$B15,0) -> 0 | BD15: =IF(Замер!$J$200="да",Балкон!$G15,0) -> 0 | BE15: =IF(Замер!$J$200="да",Балкон!$H15,0) -> 0 | BG15: =IF(Замер!$J$220="да",Помещение_11!$B15,0) -> 0 | BH15: =IF(Замер!$J$220="да",Помещение_11!$G15,0) -> 0 | BI15: =IF(Замер!$J$220="да",Помещение_11!$H15,0) -> 0 | BK15: =IF(Замер!$J$240="да",Помещение_12!$B15,0) -> 0 | BL15: =IF(Замер!$J$240="да",Помещение_12!$G15,0) -> 0 | BM15: =IF(Замер!$J$240="да",Помещение_12!$H15,0) -> 0 | BO15: =IF(Замер!$J$260="да",Помещение_13!$B15,0) -> 0 | BP15: =IF(Замер!$J$260="да",Помещение_13!$G15,0) -> 0 | BQ15: =IF(Замер!$J$260="да",Помещение_13!$H15,0) -> 0 | BS15: =IF(Замер!$J$280="да",Помещение_14!$B15,0) -> 0 | BT15: =IF(Замер!$J$280="да",Помещение_14!$G15,0) -> 0 | BU15: =IF(Замер!$J$280="да",Помещение_14!$H15,0) -> 0 | BW15: =IF(Замер!$J$300="да",Помещение_15!$B15,0) -> 0 | BX15: =IF(Замер!$J$300="да",Помещение_15!$G15,0) -> 0 | BY15: =IF(Замер!$J$300="да",Помещение_15!$H15,0) -> 0 | CA15: =IF(Замер!$J$320="да",Помещение_16!$B15,0) -> 0 | CB15: =IF(Замер!$J$320="да",Помещение_16!$G15,0) -> 0 | CC15: =IF(Замер!$J$320="да",Помещение_16!$H15,0) -> 0 | CE15: =IF(Замер!$J$340="да",Помещение_17!$B15,0) -> 0 | CF15: =IF(Замер!$J$340="да",Помещение_17!$G15,0) -> 0 | CG15: =IF(Замер!$J$340="да",Помещение_17!$H15,0) -> 0 | CI15: =IF(Замер!$J$360="да",Помещение_18!$B15,0) -> 0 | CJ15: =IF(Замер!$J$360="да",Помещение_18!$G15,0) -> 0 | CK15: =IF(Замер!$J$360="да",Помещение_18!$H15,0) -> 0 | CM15: =IF(Замер!$J$380="да",Помещение_19!$B15,0) -> 0 | CN15: =IF(Замер!$J$380="да",Помещение_19!$G15,0) -> 0 | CO15: =IF(Замер!$J$380="да",Помещение_19!$H15,0) -> 0 | CQ15: =IF(Замер!$J$400="да",Помещение_20!$B15,0) -> 0 | CR15: =IF(Замер!$J$400="да",Помещение_20!$G15,0) -> 0 | CS15: =IF(Замер!$J$400="да",Помещение_20!$H15,0) -> 0
B16: =P16 -> 0 | C16: 1.4 | D16: =VLOOKUP(C16,СписокРабот!$B:$E,2,FALSE()) -> Демонтаж натяжного потолка/ с профилем К-2,2 | E16: =VLOOKUP(C16,СписокРабот!$B:$E,3,FALSE()) -> м² | F16: =VLOOKUP(C16,СписокРабот!$B:$E,4,FALSE()) -> 199 | G16: =Q16 -> 0 | H16: =F16*G16 -> 0 | M16: =$F16*(100%-$B$3) -> 169.15 | N16: =$G16*$M16 -> 0 | P16: =MAX(S16,W16,AA16,AE16,AI16,AM16,AQ16,AU16,AY16,BC16,BG16,BK16,BO16,BS16,BW16,CA16,CE16,CI16,CM16,CQ16) -> 0 | Q16: =IF($S16,T16,0)+IF($W16,X16,0)+IF($AA16,AB16,0)+IF($AE16,AF16,0)+IF($AI16,AJ16,0)+IF($AM16,AN16,0)+IF($AQ16,AR16,0)+IF($AU16,AV16,0)+IF($AY16,AZ16,0)+IF($BC16,BD16,0)+IF($BG16,BH16,0)+IF($BK16,BL16,0)+IF($BO16,BP16,0)+IF($BS16,BT16,0)+IF($BW16,BX16,0)+IF($CA16,CB16,0)+IF($CE16,CF16,0)+IF($CI16,CJ16,0)+IF($CM16,CN16,0)+IF($CQ16,CR16,0) -> 0 | R16: =IF($S16=1,U16,0)+IF($W16,Y16,0)+IF($AA16,AC16,0)+IF($AE16,AG16,0)+IF($AI16,AK16,0)+IF($AM16,AO16,0)+IF($AQ16,AS16,0)+IF($AU16,AW16,0)+IF($AY16,BA16,0)+IF($BC16,BE16,0)+IF($BG16,BI16,0)+IF($BK16,BM16,0)+IF($BO16,BQ16,0)+IF($BS16,BU16,0)+IF($BW16,BY16,0)+IF($CA16,CC16,0)+IF($CE16,CG16,0)+IF($CI16,CK16,0)+IF($CM16,CO16,0)+IF($CQ16,CS16,0) -> 0 | S16: =IF(Замер!$J$20="да",Комната_1!$B16,0) -> 0 | T16: =IF(Замер!$J$20="да",Комната_1!$G16,0) -> 26.4 | U16: =IF(Замер!$J$20="да",Комната_1!$H16,0) -> 5253.6 | W16: =IF(Замер!$J$40="да",Комната_2!$B16,0) -> 0 | X16: =IF(Замер!$J$40="да",Комната_2!$G16,0) -> 11.6 | Y16: =IF(Замер!$J$40="да",Комната_2!$H16,0) -> 2308.4 | AA16: =IF(Замер!$J$60="да",Комната_3!$B16,0) -> 0 | AB16: =IF(Замер!$J$60="да",Комната_3!$G16,0) -> 11.9 | AC16: =IF(Замер!$J$60="да",Комната_3!$H16,0) -> 2368.1 | AE16: =IF(Замер!$J$80="да",Комната_4!$B16,0) -> 0 | AF16: =IF(Замер!$J$80="да",Комната_4!$G16,0) -> 11.3 | AG16: =IF(Замер!$J$80="да",Комната_4!$H16,0) -> 2248.7 | AI16: =IF(Замер!$J$100="да",Комната_5!$B16,0) -> 0 | AJ16: =IF(Замер!$J$100="да",Комната_5!$G16,0) -> 5.4 | AK16: =IF(Замер!$J$100="да",Комната_5!$H16,0) -> 1074.6 | AM16: =IF(Замер!$J$120="да",Коридор!$B16,0) -> 0 | AN16: =IF(Замер!$J$120="да",Коридор!$G16,0) -> 2.8 | AO16: =IF(Замер!$J$120="да",Коридор!$H16,0) -> 557.2 | AQ16: =IF(Замер!$J$140="да",Кухня!$B16,0) -> 0 | AR16: =IF(Замер!$J$140="да",Кухня!$G16,0) -> 5.6 | AS16: =IF(Замер!$J$140="да",Кухня!$H16,0) -> 1114.4 | AU16: =IF(Замер!$J$160="да",Ванна!$B16,0) -> 0 | AV16: =IF(Замер!$J$160="да",Ванна!$G16,0) -> 2.5 | AW16: =IF(Замер!$J$160="да",Ванна!$H16,0) -> 497.5 | AY16: =IF(Замер!$J$180="да",Туалет!$B16,0) -> 0 | AZ16: =IF(Замер!$J$180="да",Туалет!$G16,0) -> 0 | BA16: =IF(Замер!$J$180="да",Туалет!$H16,0) -> 0 | BC16: =IF(Замер!$J$200="да",Балкон!$B16,0) -> 0 | BD16: =IF(Замер!$J$200="да",Балкон!$G16,0) -> 0 | BE16: =IF(Замер!$J$200="да",Балкон!$H16,0) -> 0 | BG16: =IF(Замер!$J$220="да",Помещение_11!$B16,0) -> 0 | BH16: =IF(Замер!$J$220="да",Помещение_11!$G16,0) -> 0 | BI16: =IF(Замер!$J$220="да",Помещение_11!$H16,0) -> 0 | BK16: =IF(Замер!$J$240="да",Помещение_12!$B16,0) -> 0 | BL16: =IF(Замер!$J$240="да",Помещение_12!$G16,0) -> 0 | BM16: =IF(Замер!$J$240="да",Помещение_12!$H16,0) -> 0 | BO16: =IF(Замер!$J$260="да",Помещение_13!$B16,0) -> 0 | BP16: =IF(Замер!$J$260="да",Помещение_13!$G16,0) -> 0 | BQ16: =IF(Замер!$J$260="да",Помещение_13!$H16,0) -> 0 | BS16: =IF(Замер!$J$280="да",Помещение_14!$B16,0) -> 0 | BT16: =IF(Замер!$J$280="да",Помещение_14!$G16,0) -> 0 | BU16: =IF(Замер!$J$280="да",Помещение_14!$H16,0) -> 0 | BW16: =IF(Замер!$J$300="да",Помещение_15!$B16,0) -> 0 | BX16: =IF(Замер!$J$300="да",Помещение_15!$G16,0) -> 0 | BY16: =IF(Замер!$J$300="да",Помещение_15!$H16,0) -> 0 | CA16: =IF(Замер!$J$320="да",Помещение_16!$B16,0) -> 0 | CB16: =IF(Замер!$J$320="да",Помещение_16!$G16,0) -> 0 | CC16: =IF(Замер!$J$320="да",Помещение_16!$H16,0) -> 0 | CE16: =IF(Замер!$J$340="да",Помещение_17!$B16,0) -> 0 | CF16: =IF(Замер!$J$340="да",Помещение_17!$G16,0) -> 0 | CG16: =IF(Замер!$J$340="да",Помещение_17!$H16,0) -> 0 | CI16: =IF(Замер!$J$360="да",Помещение_18!$B16,0) -> 0 | CJ16: =IF(Замер!$J$360="да",Помещение_18!$G16,0) -> 0 | CK16: =IF(Замер!$J$360="да",Помещение_18!$H16,0) -> 0 | CM16: =IF(Замер!$J$380="да",Помещение_19!$B16,0) -> 0 | CN16: =IF(Замер!$J$380="да",Помещение_19!$G16,0) -> 0 | CO16: =IF(Замер!$J$380="да",Помещение_19!$H16,0) -> 0 | CQ16: =IF(Замер!$J$400="да",Помещение_20!$B16,0) -> 0 | CR16: =IF(Замер!$J$400="да",Помещение_20!$G16,0) -> 0 | CS16: =IF(Замер!$J$400="да",Помещение_20!$H16,0) -> 0
B17: =P17 -> 0 | C17: 1.5 | D17: =VLOOKUP(C17,СписокРабот!$B:$E,2,FALSE()) -> Демонтаж потолка из гипсокартона/ацеида/шифера | E17: =VLOOKUP(C17,СписокРабот!$B:$E,3,FALSE()) -> м² | F17: =VLOOKUP(C17,СписокРабот!$B:$E,4,FALSE()) -> 1033 | G17: =Q17 -> 0 | H17: =F17*G17 -> 0 | M17: =$F17*(100%-$B$3) -> 878.05 | N17: =$G17*$M17 -> 0 | P17: =MAX(S17,W17,AA17,AE17,AI17,AM17,AQ17,AU17,AY17,BC17,BG17,BK17,BO17,BS17,BW17,CA17,CE17,CI17,CM17,CQ17) -> 0 | Q17: =IF($S17,T17,0)+IF($W17,X17,0)+IF($AA17,AB17,0)+IF($AE17,AF17,0)+IF($AI17,AJ17,0)+IF($AM17,AN17,0)+IF($AQ17,AR17,0)+IF($AU17,AV17,0)+IF($AY17,AZ17,0)+IF($BC17,BD17,0)+IF($BG17,BH17,0)+IF($BK17,BL17,0)+IF($BO17,BP17,0)+IF($BS17,BT17,0)+IF($BW17,BX17,0)+IF($CA17,CB17,0)+IF($CE17,CF17,0)+IF($CI17,CJ17,0)+IF($CM17,CN17,0)+IF($CQ17,CR17,0) -> 0 | R17: =IF($S17=1,U17,0)+IF($W17,Y17,0)+IF($AA17,AC17,0)+IF($AE17,AG17,0)+IF($AI17,AK17,0)+IF($AM17,AO17,0)+IF($AQ17,AS17,0)+IF($AU17,AW17,0)+IF($AY17,BA17,0)+IF($BC17,BE17,0)+IF($BG17,BI17,0)+IF($BK17,BM17,0)+IF($BO17,BQ17,0)+IF($BS17,BU17,0)+IF($BW17,BY17,0)+IF($CA17,CC17,0)+IF($CE17,CG17,0)+IF($CI17,CK17,0)+IF($CM17,CO17,0)+IF($CQ17,CS17,0) -> 0 | S17: =IF(Замер!$J$20="да",Комната_1!$B17,0) -> 0 | T17: =IF(Замер!$J$20="да",Комната_1!$G17,0) -> 26.4 | U17: =IF(Замер!$J$20="да",Комната_1!$H17,0) -> 27271.2 | W17: =IF(Замер!$J$40="да",Комната_2!$B17,0) -> 0 | X17: =IF(Замер!$J$40="да",Комната_2!$G17,0) -> 11.6 | Y17: =IF(Замер!$J$40="да",Комната_2!$H17,0) -> 11982.8 | AA17: =IF(Замер!$J$60="да",Комната_3!$B17,0) -> 0 | AB17: =IF(Замер!$J$60="да",Комната_3!$G17,0) -> 11.9 | AC17: =IF(Замер!$J$60="да",Комната_3!$H17,0) -> 12292.7 | AE17: =IF(Замер!$J$80="да",Комната_4!$B17,0) -> 0 | AF17: =IF(Замер!$J$80="да",Комната_4!$G17,0) -> 11.3 | AG17: =IF(Замер!$J$80="да",Комната_4!$H17,0) -> 11672.9 | AI17: =IF(Замер!$J$100="да",Комната_5!$B17,0) -> 0 | AJ17: =IF(Замер!$J$100="да",Комната_5!$G17,0) -> 5.4 | AK17: =IF(Замер!$J$100="да",Комната_5!$H17,0) -> 5578.2 | AM17: =IF(Замер!$J$120="да",Коридор!$B17,0) -> 0 | AN17: =IF(Замер!$J$120="да",Коридор!$G17,0) -> 2.8 | AO17: =IF(Замер!$J$120="да",Коридор!$H17,0) -> 2892.4 | AQ17: =IF(Замер!$J$140="да",Кухня!$B17,0) -> 0 | AR17: =IF(Замер!$J$140="да",Кухня!$G17,0) -> 5.6 | AS17: =IF(Замер!$J$140="да",Кухня!$H17,0) -> 5784.8 | AU17: =IF(Замер!$J$160="да",Ванна!$B17,0) -> 0 | AV17: =IF(Замер!$J$160="да",Ванна!$G17,0) -> 2.5 | AW17: =IF(Замер!$J$160="да",Ванна!$H17,0) -> 2582.5 | AY17: =IF(Замер!$J$180="да",Туалет!$B17,0) -> 0 | AZ17: =IF(Замер!$J$180="да",Туалет!$G17,0) -> 0 | BA17: =IF(Замер!$J$180="да",Туалет!$H17,0) -> 0 | BC17: =IF(Замер!$J$200="да",Балкон!$B17,0) -> 0 | BD17: =IF(Замер!$J$200="да",Балкон!$G17,0) -> 0 | BE17: =IF(Замер!$J$200="да",Балкон!$H17,0) -> 0 | BG17: =IF(Замер!$J$220="да",Помещение_11!$B17,0) -> 0 | BH17: =IF(Замер!$J$220="да",Помещение_11!$G17,0) -> 0 | BI17: =IF(Замер!$J$220="да",Помещение_11!$H17,0) -> 0 | BK17: =IF(Замер!$J$240="да",Помещение_12!$B17,0) -> 0 | BL17: =IF(Замер!$J$240="да",Помещение_12!$G17,0) -> 0 | BM17: =IF(Замер!$J$240="да",Помещение_12!$H17,0) -> 0 | BO17: =IF(Замер!$J$260="да",Помещение_13!$B17,0) -> 0 | BP17: =IF(Замер!$J$260="да",Помещение_13!$G17,0) -> 0 | BQ17: =IF(Замер!$J$260="да",Помещение_13!$H17,0) -> 0 | BS17: =IF(Замер!$J$280="да",Помещение_14!$B17,0) -> 0 | BT17: =IF(Замер!$J$280="да",Помещение_14!$G17,0) -> 0 | BU17: =IF(Замер!$J$280="да",Помещение_14!$H17,0) -> 0 | BW17: =IF(Замер!$J$300="да",Помещение_15!$B17,0) -> 0 | BX17: =IF(Замер!$J$300="да",Помещение_15!$G17,0) -> 0 | BY17: =IF(Замер!$J$300="да",Помещение_15!$H17,0) -> 0 | CA17: =IF(Замер!$J$320="да",Помещение_16!$B17,0) -> 0 | CB17: =IF(Замер!$J$320="да",Помещение_16!$G17,0) -> 0 | CC17: =IF(Замер!$J$320="да",Помещение_16!$H17,0) -> 0 | CE17: =IF(Замер!$J$340="да",Помещение_17!$B17,0) -> 0 | CF17: =IF(Замер!$J$340="да",Помещение_17!$G17,0) -> 0 | CG17: =IF(Замер!$J$340="да",Помещение_17!$H17,0) -> 0 | CI17: =IF(Замер!$J$360="да",Помещение_18!$B17,0) -> 0 | CJ17: =IF(Замер!$J$360="да",Помещение_18!$G17,0) -> 0 | CK17: =IF(Замер!$J$360="да",Помещение_18!$H17,0) -> 0 | CM17: =IF(Замер!$J$380="да",Помещение_19!$B17,0) -> 0 | CN17: =IF(Замер!$J$380="да",Помещение_19!$G17,0) -> 0 | CO17: =IF(Замер!$J$380="да",Помещение_19!$H17,0) -> 0 | CQ17: =IF(Замер!$J$400="да",Помещение_20!$B17,0) -> 0 | CR17: =IF(Замер!$J$400="да",Помещение_20!$G17,0) -> 0 | CS17: =IF(Замер!$J$400="да",Помещение_20!$H17,0) -> 0
B18: =P18 -> 0 | C18: 1.6 | D18: =VLOOKUP(C18,СписокРабот!$B:$E,2,FALSE()) -> Демонтаж потолочных плит из пенополистирола/снятие обоев /реечного/пластиковых панелей | E18: =VLOOKUP(C18,СписокРабот!$B:$E,3,FALSE()) -> м² | F18: =VLOOKUP(C18,СписокРабот!$B:$E,4,FALSE()) -> 704 | G18: =Q18 -> 0 | H18: =F18*G18 -> 0 | M18: =$F18*(100%-$B$3) -> 598.4 | N18: =$G18*$M18 -> 0 | P18: =MAX(S18,W18,AA18,AE18,AI18,AM18,AQ18,AU18,AY18,BC18,BG18,BK18,BO18,BS18,BW18,CA18,CE18,CI18,CM18,CQ18) -> 0 | Q18: =IF($S18,T18,0)+IF($W18,X18,0)+IF($AA18,AB18,0)+IF($AE18,AF18,0)+IF($AI18,AJ18,0)+IF($AM18,AN18,0)+IF($AQ18,AR18,0)+IF($AU18,AV18,0)+IF($AY18,AZ18,0)+IF($BC18,BD18,0)+IF($BG18,BH18,0)+IF($BK18,BL18,0)+IF($BO18,BP18,0)+IF($BS18,BT18,0)+IF($BW18,BX18,0)+IF($CA18,CB18,0)+IF($CE18,CF18,0)+IF($CI18,CJ18,0)+IF($CM18,CN18,0)+IF($CQ18,CR18,0) -> 0 | R18: =IF($S18=1,U18,0)+IF($W18,Y18,0)+IF($AA18,AC18,0)+IF($AE18,AG18,0)+IF($AI18,AK18,0)+IF($AM18,AO18,0)+IF($AQ18,AS18,0)+IF($AU18,AW18,0)+IF($AY18,BA18,0)+IF($BC18,BE18,0)+IF($BG18,BI18,0)+IF($BK18,BM18,0)+IF($BO18,BQ18,0)+IF($BS18,BU18,0)+IF($BW18,BY18,0)+IF($CA18,CC18,0)+IF($CE18,CG18,0)+IF($CI18,CK18,0)+IF($CM18,CO18,0)+IF($CQ18,CS18,0) -> 0 | S18: =IF(Замер!$J$20="да",Комната_1!$B18,0) -> 0 | T18: =IF(Замер!$J$20="да",Комната_1!$G18,0) -> 26.4 | U18: =IF(Замер!$J$20="да",Комната_1!$H18,0) -> 18585.6 | W18: =IF(Замер!$J$40="да",Комната_2!$B18,0) -> 0 | X18: =IF(Замер!$J$40="да",Комната_2!$G18,0) -> 11.6 | Y18: =IF(Замер!$J$40="да",Комната_2!$H18,0) -> 8166.4 | AA18: =IF(Замер!$J$60="да",Комната_3!$B18,0) -> 0 | AB18: =IF(Замер!$J$60="да",Комната_3!$G18,0) -> 11.9 | AC18: =IF(Замер!$J$60="да",Комната_3!$H18,0) -> 8377.6 | AE18: =IF(Замер!$J$80="да",Комната_4!$B18,0) -> 0 | AF18: =IF(Замер!$J$80="да",Комната_4!$G18,0) -> 11.3 | AG18: =IF(Замер!$J$80="да",Комната_4!$H18,0) -> 7955.2 | AI18: =IF(Замер!$J$100="да",Комната_5!$B18,0) -> 0 | AJ18: =IF(Замер!$J$100="да",Комната_5!$G18,0) -> 5.4 | AK18: =IF(Замер!$J$100="да",Комната_5!$H18,0) -> 3801.6 | AM18: =IF(Замер!$J$120="да",Коридор!$B18,0) -> 0 | AN18: =IF(Замер!$J$120="да",Коридор!$G18,0) -> 2.8 | AO18: =IF(Замер!$J$120="да",Коридор!$H18,0) -> 1971.2 | AQ18: =IF(Замер!$J$140="да",Кухня!$B18,0) -> 0 | AR18: =IF(Замер!$J$140="да",Кухня!$G18,0) -> 5.6 | AS18: =IF(Замер!$J$140="да",Кухня!$H18,0) -> 3942.4 | AU18: =IF(Замер!$J$160="да",Ванна!$B18,0) -> 0 | AV18: =IF(Замер!$J$160="да",Ванна!$G18,0) -> 2.5 | AW18: =IF(Замер!$J$160="да",Ванна!$H18,0) -> 1760 | AY18: =IF(Замер!$J$180="да",Туалет!$B18,0) -> 0 | AZ18: =IF(Замер!$J$180="да",Туалет!$G18,0) -> 0 | BA18: =IF(Замер!$J$180="да",Туалет!$H18,0) -> 0 | BC18: =IF(Замер!$J$200="да",Балкон!$B18,0) -> 0 | BD18: =IF(Замер!$J$200="да",Балкон!$G18,0) -> 0 | BE18: =IF(Замер!$J$200="да",Балкон!$H18,0) -> 0 | BG18: =IF(Замер!$J$220="да",Помещение_11!$B18,0) -> 0 | BH18: =IF(Замер!$J$220="да",Помещение_11!$G18,0) -> 0 | BI18: =IF(Замер!$J$220="да",Помещение_11!$H18,0) -> 0 | BK18: =IF(Замер!$J$240="да",Помещение_12!$B18,0) -> 0 | BL18: =IF(Замер!$J$240="да",Помещение_12!$G18,0) -> 0 | BM18: =IF(Замер!$J$240="да",Помещение_12!$H18,0) -> 0 | BO18: =IF(Замер!$J$260="да",Помещение_13!$B18,0) -> 0 | BP18: =IF(Замер!$J$260="да",Помещение_13!$G18,0) -> 0 | BQ18: =IF(Замер!$J$260="да",Помещение_13!$H18,0) -> 0 | BS18: =IF(Замер!$J$280="да",Помещение_14!$B18,0) -> 0 | BT18: =IF(Замер!$J$280="да",Помещение_14!$G18,0) -> 0 | BU18: =IF(Замер!$J$280="да",Помещение_14!$H18,0) -> 0 | BW18: =IF(Замер!$J$300="да",Помещение_15!$B18,0) -> 0 | BX18: =IF(Замер!$J$300="да",Помещение_15!$G18,0) -> 0 | BY18: =IF(Замер!$J$300="да",Помещение_15!$H18,0) -> 0 | CA18: =IF(Замер!$J$320="да",Помещение_16!$B18,0) -> 0 | CB18: =IF(Замер!$J$320="да",Помещение_16!$G18,0) -> 0 | CC18: =IF(Замер!$J$320="да",Помещение_16!$H18,0) -> 0 | CE18: =IF(Замер!$J$340="да",Помещение_17!$B18,0) -> 0 | CF18: =IF(Замер!$J$340="да",Помещение_17!$G18,0) -> 0 | CG18: =IF(Замер!$J$340="да",Помещение_17!$H18,0) -> 0 | CI18: =IF(Замер!$J$360="да",Помещение_18!$B18,0) -> 0 | CJ18: =IF(Замер!$J$360="да",Помещение_18!$G18,0) -> 0 | CK18: =IF(Замер!$J$360="да",Помещение_18!$H18,0) -> 0 | CM18: =IF(Замер!$J$380="да",Помещение_19!$B18,0) -> 0 | CN18: =IF(Замер!$J$380="да",Помещение_19!$G18,0) -> 0 | CO18: =IF(Замер!$J$380="да",Помещение_19!$H18,0) -> 0 | CQ18: =IF(Замер!$J$400="да",Помещение_20!$B18,0) -> 0 | CR18: =IF(Замер!$J$400="да",Помещение_20!$G18,0) -> 0 | CS18: =IF(Замер!$J$400="да",Помещение_20!$H18,0) -> 0
B19: =P19 -> 0 | C19: 1.7 | D19: =VLOOKUP(C19,СписокРабот!$B:$E,2,FALSE()) -> Демонтаж дранки или металлической сетки с потолка | E19: =VLOOKUP(C19,СписокРабот!$B:$E,3,FALSE()) -> м² | F19: =VLOOKUP(C19,СписокРабот!$B:$E,4,FALSE()) -> 1085 | G19: =Q19 -> 0 | H19: =F19*G19 -> 0 | M19: =$F19*(100%-$B$3) -> 922.25 | N19: =$G19*$M19 -> 0 | P19: =MAX(S19,W19,AA19,AE19,AI19,AM19,AQ19,AU19,AY19,BC19,BG19,BK19,BO19,BS19,BW19,CA19,CE19,CI19,CM19,CQ19) -> 0 | Q19: =IF($S19,T19,0)+IF($W19,X19,0)+IF($AA19,AB19,0)+IF($AE19,AF19,0)+IF($AI19,AJ19,0)+IF($AM19,AN19,0)+IF($AQ19,AR19,0)+IF($AU19,AV19,0)+IF($AY19,AZ19,0)+IF($BC19,BD19,0)+IF($BG19,BH19,0)+IF($BK19,BL19,0)+IF($BO19,BP19,0)+IF($BS19,BT19,0)+IF($BW19,BX19,0)+IF($CA19,CB19,0)+IF($CE19,CF19,0)+IF($CI19,CJ19,0)+IF($CM19,CN19,0)+IF($CQ19,CR19,0) -> 0 | R19: =IF($S19=1,U19,0)+IF($W19,Y19,0)+IF($AA19,AC19,0)+IF($AE19,AG19,0)+IF($AI19,AK19,0)+IF($AM19,AO19,0)+IF($AQ19,AS19,0)+IF($AU19,AW19,0)+IF($AY19,BA19,0)+IF($BC19,BE19,0)+IF($BG19,BI19,0)+IF($BK19,BM19,0)+IF($BO19,BQ19,0)+IF($BS19,BU19,0)+IF($BW19,BY19,0)+IF($CA19,CC19,0)+IF($CE19,CG19,0)+IF($CI19,CK19,0)+IF($CM19,CO19,0)+IF($CQ19,CS19,0) -> 0 | S19: =IF(Замер!$J$20="да",Комната_1!$B19,0) -> 0 | T19: =IF(Замер!$J$20="да",Комната_1!$G19,0) -> 0 | U19: =IF(Замер!$J$20="да",Комната_1!$H19,0) -> 0 | W19: =IF(Замер!$J$40="да",Комната_2!$B19,0) -> 0 | X19: =IF(Замер!$J$40="да",Комната_2!$G19,0) -> 0 | Y19: =IF(Замер!$J$40="да",Комната_2!$H19,0) -> 0 | AA19: =IF(Замер!$J$60="да",Комната_3!$B19,0) -> 0 | AB19: =IF(Замер!$J$60="да",Комната_3!$G19,0) -> 0 | AC19: =IF(Замер!$J$60="да",Комната_3!$H19,0) -> 0 | AE19: =IF(Замер!$J$80="да",Комната_4!$B19,0) -> 0 | AF19: =IF(Замер!$J$80="да",Комната_4!$G19,0) -> 0 | AG19: =IF(Замер!$J$80="да",Комната_4!$H19,0) -> 0 | AI19: =IF(Замер!$J$100="да",Комната_5!$B19,0) -> 0 | AJ19: =IF(Замер!$J$100="да",Комната_5!$G19,0) -> 0 | AK19: =IF(Замер!$J$100="да",Комната_5!$H19,0) -> 0 | AM19: =IF(Замер!$J$120="да",Коридор!$B19,0) -> 0 | AN19: =IF(Замер!$J$120="да",Коридор!$G19,0) -> 0 | AO19: =IF(Замер!$J$120="да",Коридор!$H19,0) -> 0 | AQ19: =IF(Замер!$J$140="да",Кухня!$B19,0) -> 0 | AR19: =IF(Замер!$J$140="да",Кухня!$G19,0) -> 0 | AS19: =IF(Замер!$J$140="да",Кухня!$H19,0) -> 0 | AU19: =IF(Замер!$J$160="да",Ванна!$B19,0) -> 0 | AV19: =IF(Замер!$J$160="да",Ванна!$G19,0) -> 0 | AW19: =IF(Замер!$J$160="да",Ванна!$H19,0) -> 0 | AY19: =IF(Замер!$J$180="да",Туалет!$B19,0) -> 0 | AZ19: =IF(Замер!$J$180="да",Туалет!$G19,0) -> 0 | BA19: =IF(Замер!$J$180="да",Туалет!$H19,0) -> 0 | BC19: =IF(Замер!$J$200="да",Балкон!$B19,0) -> 0 | BD19: =IF(Замер!$J$200="да",Балкон!$G19,0) -> 0 | BE19: =IF(Замер!$J$200="да",Балкон!$H19,0) -> 0 | BG19: =IF(Замер!$J$220="да",Помещение_11!$B19,0) -> 0 | BH19: =IF(Замер!$J$220="да",Помещение_11!$G19,0) -> 0 | BI19: =IF(Замер!$J$220="да",Помещение_11!$H19,0) -> 0 | BK19: =IF(Замер!$J$240="да",Помещение_12!$B19,0) -> 0 | BL19: =IF(Замер!$J$240="да",Помещение_12!$G19,0) -> 0 | BM19: =IF(Замер!$J$240="да",Помещение_12!$H19,0) -> 0 | BO19: =IF(Замер!$J$260="да",Помещение_13!$B19,0) -> 0 | BP19: =IF(Замер!$J$260="да",Помещение_13!$G19,0) -> 0 | BQ19: =IF(Замер!$J$260="да",Помещение_13!$H19,0) -> 0 | BS19: =IF(Замер!$J$280="да",Помещение_14!$B19,0) -> 0 | BT19: =IF(Замер!$J$280="да",Помещение_14!$G19,0) -> 0 | BU19: =IF(Замер!$J$280="да",Помещение_14!$H19,0) -> 0 | BW19: =IF(Замер!$J$300="да",Помещение_15!$B19,0) -> 0 | BX19: =IF(Замер!$J$300="да",Помещение_15!$G19,0) -> 0 | BY19: =IF(Замер!$J$300="да",Помещение_15!$H19,0) -> 0 | CA19: =IF(Замер!$J$320="да",Помещение_16!$B19,0) -> 0 | CB19: =IF(Замер!$J$320="да",Помещение_16!$G19,0) -> 0 | CC19: =IF(Замер!$J$320="да",Помещение_16!$H19,0) -> 0 | CE19: =IF(Замер!$J$340="да",Помещение_17!$B19,0) -> 0 | CF19: =IF(Замер!$J$340="да",Помещение_17!$G19,0) -> 0 | CG19: =IF(Замер!$J$340="да",Помещение_17!$H19,0) -> 0 | CI19: =IF(Замер!$J$360="да",Помещение_18!$B19,0) -> 0 | CJ19: =IF(Замер!$J$360="да",Помещение_18!$G19,0) -> 0 | CK19: =IF(Замер!$J$360="да",Помещение_18!$H19,0) -> 0 | CM19: =IF(Замер!$J$380="да",Помещение_19!$B19,0) -> 0 | CN19: =IF(Замер!$J$380="да",Помещение_19!$G19,0) -> 0 | CO19: =IF(Замер!$J$380="да",Помещение_19!$H19,0) -> 0 | CQ19: =IF(Замер!$J$400="да",Помещение_20!$B19,0) -> 0 | CR19: =IF(Замер!$J$400="да",Помещение_20!$G19,0) -> 0 | CS19: =IF(Замер!$J$400="да",Помещение_20!$H19,0) -> 0
B20: =P20 -> 0 | C20: 1.8 | D20: =VLOOKUP(C20,СписокРабот!$B:$E,2,FALSE()) -> Демонтаж потолочного плинтуса из полиуретана, лепнины из гипса К-1,5 | E20: =VLOOKUP(C20,СписокРабот!$B:$E,3,FALSE()) -> п.м | F20: =VLOOKUP(C20,СписокРабот!$B:$E,4,FALSE()) -> 128 | G20: =Q20 -> 0 | H20: =F20*G20 -> 0 | M20: =$F20*(100%-$B$3) -> 108.8 | N20: =$G20*$M20 -> 0 | P20: =MAX(S20,W20,AA20,AE20,AI20,AM20,AQ20,AU20,AY20,BC20,BG20,BK20,BO20,BS20,BW20,CA20,CE20,CI20,CM20,CQ20) -> 0 | Q20: =IF($S20,T20,0)+IF($W20,X20,0)+IF($AA20,AB20,0)+IF($AE20,AF20,0)+IF($AI20,AJ20,0)+IF($AM20,AN20,0)+IF($AQ20,AR20,0)+IF($AU20,AV20,0)+IF($AY20,AZ20,0)+IF($BC20,BD20,0)+IF($BG20,BH20,0)+IF($BK20,BL20,0)+IF($BO20,BP20,0)+IF($BS20,BT20,0)+IF($BW20,BX20,0)+IF($CA20,CB20,0)+IF($CE20,CF20,0)+IF($CI20,CJ20,0)+IF($CM20,CN20,0)+IF($CQ20,CR20,0) -> 0 | R20: =IF($S20=1,U20,0)+IF($W20,Y20,0)+IF($AA20,AC20,0)+IF($AE20,AG20,0)+IF($AI20,AK20,0)+IF($AM20,AO20,0)+IF($AQ20,AS20,0)+IF($AU20,AW20,0)+IF($AY20,BA20,0)+IF($BC20,BE20,0)+IF($BG20,BI20,0)+IF($BK20,BM20,0)+IF($BO20,BQ20,0)+IF($BS20,BU20,0)+IF($BW20,BY20,0)+IF($CA20,CC20,0)+IF($CE20,CG20,0)+IF($CI20,CK20,0)+IF($CM20,CO20,0)+IF($CQ20,CS20,0) -> 0 | S20: =IF(Замер!$J$20="да",Комната_1!$B20,0) -> 0 | T20: =IF(Замер!$J$20="да",Комната_1!$G20,0) -> 0 | U20: =IF(Замер!$J$20="да",Комната_1!$H20,0) -> 0 | W20: =IF(Замер!$J$40="да",Комната_2!$B20,0) -> 0 | X20: =IF(Замер!$J$40="да",Комната_2!$G20,0) -> 0 | Y20: =IF(Замер!$J$40="да",Комната_2!$H20,0) -> 0 | AA20: =IF(Замер!$J$60="да",Комната_3!$B20,0) -> 0 | AB20: =IF(Замер!$J$60="да",Комната_3!$G20,0) -> 0 | AC20: =IF(Замер!$J$60="да",Комната_3!$H20,0) -> 0 | AE20: =IF(Замер!$J$80="да",Комната_4!$B20,0) -> 0 | AF20: =IF(Замер!$J$80="да",Комната_4!$G20,0) -> 0 | AG20: =IF(Замер!$J$80="да",Комната_4!$H20,0) -> 0 | AI20: =IF(Замер!$J$100="да",Комната_5!$B20,0) -> 0 | AJ20: =IF(Замер!$J$100="да",Комната_5!$G20,0) -> 0 | AK20: =IF(Замер!$J$100="да",Комната_5!$H20,0) -> 0 | AM20: =IF(Замер!$J$120="да",Коридор!$B20,0) -> 0 | AN20: =IF(Замер!$J$120="да",Коридор!$G20,0) -> 0 | AO20: =IF(Замер!$J$120="да",Коридор!$H20,0) -> 0 | AQ20: =IF(Замер!$J$140="да",Кухня!$B20,0) -> 0 | AR20: =IF(Замер!$J$140="да",Кухня!$G20,0) -> 0 | AS20: =IF(Замер!$J$140="да",Кухня!$H20,0) -> 0 | AU20: =IF(Замер!$J$160="да",Ванна!$B20,0) -> 0 | AV20: =IF(Замер!$J$160="да",Ванна!$G20,0) -> 0 | AW20: =IF(Замер!$J$160="да",Ванна!$H20,0) -> 0 | AY20: =IF(Замер!$J$180="да",Туалет!$B20,0) -> 0 | AZ20: =IF(Замер!$J$180="да",Туалет!$G20,0) -> 0 | BA20: =IF(Замер!$J$180="да",Туалет!$H20,0) -> 0 | BC20: =IF(Замер!$J$200="да",Балкон!$B20,0) -> 0 | BD20: =IF(Замер!$J$200="да",Балкон!$G20,0) -> 0 | BE20: =IF(Замер!$J$200="да",Балкон!$H20,0) -> 0 | BG20: =IF(Замер!$J$220="да",Помещение_11!$B20,0) -> 0 | BH20: =IF(Замер!$J$220="да",Помещение_11!$G20,0) -> 0 | BI20: =IF(Замер!$J$220="да",Помещение_11!$H20,0) -> 0 | BK20: =IF(Замер!$J$240="да",Помещение_12!$B20,0) -> 0 | BL20: =IF(Замер!$J$240="да",Помещение_12!$G20,0) -> 0 | BM20: =IF(Замер!$J$240="да",Помещение_12!$H20,0) -> 0 | BO20: =IF(Замер!$J$260="да",Помещение_13!$B20,0) -> 0 | BP20: =IF(Замер!$J$260="да",Помещение_13!$G20,0) -> 0 | BQ20: =IF(Замер!$J$260="да",Помещение_13!$H20,0) -> 0 | BS20: =IF(Замер!$J$280="да",Помещение_14!$B20,0) -> 0 | BT20: =IF(Замер!$J$280="да",Помещение_14!$G20,0) -> 0 | BU20: =IF(Замер!$J$280="да",Помещение_14!$H20,0) -> 0 | BW20: =IF(Замер!$J$300="да",Помещение_15!$B20,0) -> 0 | BX20: =IF(Замер!$J$300="да",Помещение_15!$G20,0) -> 0 | BY20: =IF(Замер!$J$300="да",Помещение_15!$H20,0) -> 0 | CA20: =IF(Замер!$J$320="да",Помещение_16!$B20,0) -> 0 | CB20: =IF(Замер!$J$320="да",Помещение_16!$G20,0) -> 0 | CC20: =IF(Замер!$J$320="да",Помещение_16!$H20,0) -> 0 | CE20: =IF(Замер!$J$340="да",Помещение_17!$B20,0) -> 0 | CF20: =IF(Замер!$J$340="да",Помещение_17!$G20,0) -> 0 | CG20: =IF(Замер!$J$340="да",Помещение_17!$H20,0) -> 0 | CI20: =IF(Замер!$J$360="да",Помещение_18!$B20,0) -> 0 | CJ20: =IF(Замер!$J$360="да",Помещение_18!$G20,0) -> 0 | CK20: =IF(Замер!$J$360="да",Помещение_18!$H20,0) -> 0 | CM20: =IF(Замер!$J$380="да",Помещение_19!$B20,0) -> 0 | CN20: =IF(Замер!$J$380="да",Помещение_19!$G20,0) -> 0 | CO20: =IF(Замер!$J$380="да",Помещение_19!$H20,0) -> 0 | CQ20: =IF(Замер!$J$400="да",Помещение_20!$B20,0) -> 0 | CR20: =IF(Замер!$J$400="да",Помещение_20!$G20,0) -> 0 | CS20: =IF(Замер!$J$400="да",Помещение_20!$H20,0) -> 0
B21: 1 | C21: Итого по: Демонтажные работы (потолки) | G21: =SUMIF(B13:B20,">0",H13:H20) -> 0 | L21: s | N21: =G21*(100%-$B$3) -> 0
B22: 1 | C22: 2. Монтажные работы (потолки) | E22: ед. изм. | F22: цена | G22: кол-во | H22: сумма | L22: t | N22: =N59 -> 474380.41
B23: =P23 -> 0 | C23: 2.1 | D23: =VLOOKUP(C23,СписокРабот!$B:$E,2,FALSE()) -> Устройство реечных подвесных потолков | E23: =VLOOKUP(C23,СписокРабот!$B:$E,3,FALSE()) -> м² | F23: =VLOOKUP(C23,СписокРабот!$B:$E,4,FALSE()) -> 1880 | G23: =Q23 -> 0 | H23: =F23*G23 -> 0 | M23: =$F23*(100%-$B$3) -> 1598 | N23: =$G23*$M23 -> 0 | P23: =MAX(S23,W23,AA23,AE23,AI23,AM23,AQ23,AU23,AY23,BC23,BG23,BK23,BO23,BS23,BW23,CA23,CE23,CI23,CM23,CQ23) -> 0 | Q23: =IF($S23,T23,0)+IF($W23,X23,0)+IF($AA23,AB23,0)+IF($AE23,AF23,0)+IF($AI23,AJ23,0)+IF($AM23,AN23,0)+IF($AQ23,AR23,0)+IF($AU23,AV23,0)+IF($AY23,AZ23,0)+IF($BC23,BD23,0)+IF($BG23,BH23,0)+IF($BK23,BL23,0)+IF($BO23,BP23,0)+IF($BS23,BT23,0)+IF($BW23,BX23,0)+IF($CA23,CB23,0)+IF($CE23,CF23,0)+IF($CI23,CJ23,0)+IF($CM23,CN23,0)+IF($CQ23,CR23,0) -> 0 | R23: =IF($S23=1,U23,0)+IF($W23,Y23,0)+IF($AA23,AC23,0)+IF($AE23,AG23,0)+IF($AI23,AK23,0)+IF($AM23,AO23,0)+IF($AQ23,AS23,0)+IF($AU23,AW23,0)+IF($AY23,BA23,0)+IF($BC23,BE23,0)+IF($BG23,BI23,0)+IF($BK23,BM23,0)+IF($BO23,BQ23,0)+IF($BS23,BU23,0)+IF($BW23,BY23,0)+IF($CA23,CC23,0)+IF($CE23,CG23,0)+IF($CI23,CK23,0)+IF($CM23,CO23,0)+IF($CQ23,CS23,0) -> 0 | S23: =IF(Замер!$J$20="да",Комната_1!$B23,0) -> 0 | T23: =IF(Замер!$J$20="да",Комната_1!$G23,0) -> 26.4 | U23: =IF(Замер!$J$20="да",Комната_1!$H23,0) -> 49632 | W23: =IF(Замер!$J$40="да",Комната_2!$B23,0) -> 0 | X23: =IF(Замер!$J$40="да",Комната_2!$G23,0) -> 11.6 | Y23: =IF(Замер!$J$40="да",Комната_2!$H23,0) -> 21808 | AA23: =IF(Замер!$J$60="да",Комната_3!$B23,0) -> 0 | AB23: =IF(Замер!$J$60="да",Комната_3!$G23,0) -> 11.9 | AC23: =IF(Замер!$J$60="да",Комната_3!$H23,0) -> 22372 | AE23: =IF(Замер!$J$80="да",Комната_4!$B23,0) -> 0 | AF23: =IF(Замер!$J$80="да",Комната_4!$G23,0) -> 11.3 | AG23: =IF(Замер!$J$80="да",Комната_4!$H23,0) -> 21244 | AI23: =IF(Замер!$J$100="да",Комната_5!$B23,0) -> 0 | AJ23: =IF(Замер!$J$100="да",Комната_5!$G23,0) -> 5.4 | AK23: =IF(Замер!$J$100="да",Комната_5!$H23,0) -> 10152 | AM23: =IF(Замер!$J$120="да",Коридор!$B23,0) -> 0 | AN23: =IF(Замер!$J$120="да",Коридор!$G23,0) -> 2.8 | AO23: =IF(Замер!$J$120="да",Коридор!$H23,0) -> 5264 | AQ23: =IF(Замер!$J$140="да",Кухня!$B23,0) -> 0 | AR23: =IF(Замер!$J$140="да",Кухня!$G23,0) -> 5.6 | AS23: =IF(Замер!$J$140="да",Кухня!$H23,0) -> 10528 | AU23: =IF(Замер!$J$160="да",Ванна!$B23,0) -> 0 | AV23: =IF(Замер!$J$160="да",Ванна!$G23,0) -> 2.5 | AW23: =IF(Замер!$J$160="да",Ванна!$H23,0) -> 4700 | AY23: =IF(Замер!$J$180="да",Туалет!$B23,0) -> 0 | AZ23: =IF(Замер!$J$180="да",Туалет!$G23,0) -> 0 | BA23: =IF(Замер!$J$180="да",Туалет!$H23,0) -> 0 | BC23: =IF(Замер!$J$200="да",Балкон!$B23,0) -> 0 | BD23: =IF(Замер!$J$200="да",Балкон!$G23,0) -> 0 | BE23: =IF(Замер!$J$200="да",Балкон!$H23,0) -> 0 | BG23: =IF(Замер!$J$220="да",Помещение_11!$B23,0) -> 0 | BH23: =IF(Замер!$J$220="да",Помещение_11!$G23,0) -> 0 | BI23: =IF(Замер!$J$220="да",Помещение_11!$H23,0) -> 0 | BK23: =IF(Замер!$J$240="да",Помещение_12!$B23,0) -> 0 | BL23: =IF(Замер!$J$240="да",Помещение_12!$G23,0) -> 0 | BM23: =IF(Замер!$J$240="да",Помещение_12!$H23,0) -> 0 | BO23: =IF(Замер!$J$260="да",Помещение_13!$B23,0) -> 0 | BP23: =IF(Замер!$J$260="да",Помещение_13!$G23,0) -> 0 | BQ23: =IF(Замер!$J$260="да",Помещение_13!$H23,0) -> 0 | BS23: =IF(Замер!$J$280="да",Помещение_14!$B23,0) -> 0 | BT23: =IF(Замер!$J$280="да",Помещение_14!$G23,0) -> 0 | BU23: =IF(Замер!$J$280="да",Помещение_14!$H23,0) -> 0 | BW23: =IF(Замер!$J$300="да",Помещение_15!$B23,0) -> 0 | BX23: =IF(Замер!$J$300="да",Помещение_15!$G23,0) -> 0 | BY23: =IF(Замер!$J$300="да",Помещение_15!$H23,0) -> 0 | CA23: =IF(Замер!$J$320="да",Помещение_16!$B23,0) -> 0 | CB23: =IF(Замер!$J$320="да",Помещение_16!$G23,0) -> 0 | CC23: =IF(Замер!$J$320="да",Помещение_16!$H23,0) -> 0 | CE23: =IF(Замер!$J$340="да",Помещение_17!$B23,0) -> 0 | CF23: =IF(Замер!$J$340="да",Помещение_17!$G23,0) -> 0 | CG23: =IF(Замер!$J$340="да",Помещение_17!$H23,0) -> 0 | CI23: =IF(Замер!$J$360="да",Помещение_18!$B23,0) -> 0 | CJ23: =IF(Замер!$J$360="да",Помещение_18!$G23,0) -> 0 | CK23: =IF(Замер!$J$360="да",Помещение_18!$H23,0) -> 0 | CM23: =IF(Замер!$J$380="да",Помещение_19!$B23,0) -> 0 | CN23: =IF(Замер!$J$380="да",Помещение_19!$G23,0) -> 0 | CO23: =IF(Замер!$J$380="да",Помещение_19!$H23,0) -> 0 | CQ23: =IF(Замер!$J$400="да",Помещение_20!$B23,0) -> 0 | CR23: =IF(Замер!$J$400="да",Помещение_20!$G23,0) -> 0 | CS23: =IF(Замер!$J$400="да",Помещение_20!$H23,0) -> 0
B24: =P24 -> 0 | C24: 2.2 | D24: =VLOOKUP(C24,СписокРабот!$B:$E,2,FALSE()) -> Устройство теневого профиля | E24: =VLOOKUP(C24,СписокРабот!$B:$E,3,FALSE()) -> п.м. | F24: =VLOOKUP(C24,СписокРабот!$B:$E,4,FALSE()) -> 1919 | G24: =Q24 -> 0 | H24: =F24*G24 -> 0 | M24: =$F24*(100%-$B$3) -> 1631.15 | N24: =$G24*$M24 -> 0 | P24: =MAX(S24,W24,AA24,AE24,AI24,AM24,AQ24,AU24,AY24,BC24,BG24,BK24,BO24,BS24,BW24,CA24,CE24,CI24,CM24,CQ24) -> 0 | Q24: =IF($S24,T24,0)+IF($W24,X24,0)+IF($AA24,AB24,0)+IF($AE24,AF24,0)+IF($AI24,AJ24,0)+IF($AM24,AN24,0)+IF($AQ24,AR24,0)+IF($AU24,AV24,0)+IF($AY24,AZ24,0)+IF($BC24,BD24,0)+IF($BG24,BH24,0)+IF($BK24,BL24,0)+IF($BO24,BP24,0)+IF($BS24,BT24,0)+IF($BW24,BX24,0)+IF($CA24,CB24,0)+IF($CE24,CF24,0)+IF($CI24,CJ24,0)+IF($CM24,CN24,0)+IF($CQ24,CR24,0) -> 0 | R24: =IF($S24=1,U24,0)+IF($W24,Y24,0)+IF($AA24,AC24,0)+IF($AE24,AG24,0)+IF($AI24,AK24,0)+IF($AM24,AO24,0)+IF($AQ24,AS24,0)+IF($AU24,AW24,0)+IF($AY24,BA24,0)+IF($BC24,BE24,0)+IF($BG24,BI24,0)+IF($BK24,BM24,0)+IF($BO24,BQ24,0)+IF($BS24,BU24,0)+IF($BW24,BY24,0)+IF($CA24,CC24,0)+IF($CE24,CG24,0)+IF($CI24,CK24,0)+IF($CM24,CO24,0)+IF($CQ24,CS24,0) -> 0 | S24: =IF(Замер!$J$20="да",Комната_1!$B24,0) -> 0 | T24: =IF(Замер!$J$20="да",Комната_1!$G24,0) -> 26.4 | U24: =IF(Замер!$J$20="да",Комната_1!$H24,0) -> 50661.6 | W24: =IF(Замер!$J$40="да",Комната_2!$B24,0) -> 0 | X24: =IF(Замер!$J$40="да",Комната_2!$G24,0) -> 11.6 | Y24: =IF(Замер!$J$40="да",Комната_2!$H24,0) -> 22260.4 | AA24: =IF(Замер!$J$60="да",Комната_3!$B24,0) -> 0 | AB24: =IF(Замер!$J$60="да",Комната_3!$G24,0) -> 11.9 | AC24: =IF(Замер!$J$60="да",Комната_3!$H24,0) -> 22836.1 | AE24: =IF(Замер!$J$80="да",Комната_4!$B24,0) -> 0 | AF24: =IF(Замер!$J$80="да",Комната_4!$G24,0) -> 11.3 | AG24: =IF(Замер!$J$80="да",Комната_4!$H24,0) -> 21684.7 | AI24: =IF(Замер!$J$100="да",Комната_5!$B24,0) -> 0 | AJ24: =IF(Замер!$J$100="да",Комната_5!$G24,0) -> 5.4 | AK24: =IF(Замер!$J$100="да",Комната_5!$H24,0) -> 10362.6 | AM24: =IF(Замер!$J$120="да",Коридор!$B24,0) -> 0 | AN24: =IF(Замер!$J$120="да",Коридор!$G24,0) -> 2.8 | AO24: =IF(Замер!$J$120="да",Коридор!$H24,0) -> 5373.2 | AQ24: =IF(Замер!$J$140="да",Кухня!$B24,0) -> 0 | AR24: =IF(Замер!$J$140="да",Кухня!$G24,0) -> 5.6 | AS24: =IF(Замер!$J$140="да",Кухня!$H24,0) -> 10746.4 | AU24: =IF(Замер!$J$160="да",Ванна!$B24,0) -> 0 | AV24: =IF(Замер!$J$160="да",Ванна!$G24,0) -> 2.5 | AW24: =IF(Замер!$J$160="да",Ванна!$H24,0) -> 4797.5 | AY24: =IF(Замер!$J$180="да",Туалет!$B24,0) -> 0 | AZ24: =IF(Замер!$J$180="да",Туалет!$G24,0) -> 0 | BA24: =IF(Замер!$J$180="да",Туалет!$H24,0) -> 0 | BC24: =IF(Замер!$J$200="да",Балкон!$B24,0) -> 0 | BD24: =IF(Замер!$J$200="да",Балкон!$G24,0) -> 0 | BE24: =IF(Замер!$J$200="да",Балкон!$H24,0) -> 0 | BG24: =IF(Замер!$J$220="да",Помещение_11!$B24,0) -> 0 | BH24: =IF(Замер!$J$220="да",Помещение_11!$G24,0) -> 0 | BI24: =IF(Замер!$J$220="да",Помещение_11!$H24,0) -> 0 | BK24: =IF(Замер!$J$240="да",Помещение_12!$B24,0) -> 0 | BL24: =IF(Замер!$J$240="да",Помещение_12!$G24,0) -> 0 | BM24: =IF(Замер!$J$240="да",Помещение_12!$H24,0) -> 0 | BO24: =IF(Замер!$J$260="да",Помещение_13!$B24,0) -> 0 | BP24: =IF(Замер!$J$260="да",Помещение_13!$G24,0) -> 0 | BQ24: =IF(Замер!$J$260="да",Помещение_13!$H24,0) -> 0 | BS24: =IF(Замер!$J$280="да",Помещение_14!$B24,0) -> 0 | BT24: =IF(Замер!$J$280="да",Помещение_14!$G24,0) -> 0 | BU24: =IF(Замер!$J$280="да",Помещение_14!$H24,0) -> 0 | BW24: =IF(Замер!$J$300="да",Помещение_15!$B24,0) -> 0 | BX24: =IF(Замер!$J$300="да",Помещение_15!$G24,0) -> 0 | BY24: =IF(Замер!$J$300="да",Помещение_15!$H24,0) -> 0 | CA24: =IF(Замер!$J$320="да",Помещение_16!$B24,0) -> 0 | CB24: =IF(Замер!$J$320="да",Помещение_16!$G24,0) -> 0 | CC24: =IF(Замер!$J$320="да",Помещение_16!$H24,0) -> 0 | CE24: =IF(Замер!$J$340="да",Помещение_17!$B24,0) -> 0 | CF24: =IF(Замер!$J$340="да",Помещение_17!$G24,0) -> 0 | CG24: =IF(Замер!$J$340="да",Помещение_17!$H24,0) -> 0 | CI24: =IF(Замер!$J$360="да",Помещение_18!$B24,0) -> 0 | CJ24: =IF(Замер!$J$360="да",Помещение_18!$G24,0) -> 0 | CK24: =IF(Замер!$J$360="да",Помещение_18!$H24,0) -> 0 | CM24: =IF(Замер!$J$380="да",Помещение_19!$B24,0) -> 0 | CN24: =IF(Замер!$J$380="да",Помещение_19!$G24,0) -> 0 | CO24: =IF(Замер!$J$380="да",Помещение_19!$H24,0) -> 0 | CQ24: =IF(Замер!$J$400="да",Помещение_20!$B24,0) -> 0 | CR24: =IF(Замер!$J$400="да",Помещение_20!$G24,0) -> 0 | CS24: =IF(Замер!$J$400="да",Помещение_20!$H24,0) -> 0
B25: =P25 -> 1 | C25: 2.3 | D25: =VLOOKUP(C25,СписокРабот!$B:$E,2,FALSE()) -> Базовая шпатлёвка потолка 1 слой | E25: =VLOOKUP(C25,СписокРабот!$B:$E,3,FALSE()) -> м² | F25: =VLOOKUP(C25,СписокРабот!$B:$E,4,FALSE()) -> 578 | G25: =Q25 -> 60.8 | H25: =F25*G25 -> 35142.4 | M25: =$F25*(100%-$B$3) -> 491.3 | N25: =$G25*$M25 -> 29871.04 | P25: =MAX(S25,W25,AA25,AE25,AI25,AM25,AQ25,AU25,AY25,BC25,BG25,BK25,BO25,BS25,BW25,CA25,CE25,CI25,CM25,CQ25) -> 1 | Q25: =IF($S25,T25,0)+IF($W25,X25,0)+IF($AA25,AB25,0)+IF($AE25,AF25,0)+IF($AI25,AJ25,0)+IF($AM25,AN25,0)+IF($AQ25,AR25,0)+IF($AU25,AV25,0)+IF($AY25,AZ25,0)+IF($BC25,BD25,0)+IF($BG25,BH25,0)+IF($BK25,BL25,0)+IF($BO25,BP25,0)+IF($BS25,BT25,0)+IF($BW25,BX25,0)+IF($CA25,CB25,0)+IF($CE25,CF25,0)+IF($CI25,CJ25,0)+IF($CM25,CN25,0)+IF($CQ25,CR25,0) -> 60.8 | R25: =IF($S25=1,U25,0)+IF($W25,Y25,0)+IF($AA25,AC25,0)+IF($AE25,AG25,0)+IF($AI25,AK25,0)+IF($AM25,AO25,0)+IF($AQ25,AS25,0)+IF($AU25,AW25,0)+IF($AY25,BA25,0)+IF($BC25,BE25,0)+IF($BG25,BI25,0)+IF($BK25,BM25,0)+IF($BO25,BQ25,0)+IF($BS25,BU25,0)+IF($BW25,BY25,0)+IF($CA25,CC25,0)+IF($CE25,CG25,0)+IF($CI25,CK25,0)+IF($CM25,CO25,0)+IF($CQ25,CS25,0) -> 35142.4 | S25: =IF(Замер!$J$20="да",Комната_1!$B25,0) -> 1 | T25: =IF(Замер!$J$20="да",Комната_1!$G25,0) -> 60.8 | U25: =IF(Замер!$J$20="да",Комната_1!$H25,0) -> 35142.4 | W25: =IF(Замер!$J$40="да",Комната_2!$B25,0) -> 0 | X25: =IF(Замер!$J$40="да",Комната_2!$G25,0) -> 11.6 | Y25: =IF(Замер!$J$40="да",Комната_2!$H25,0) -> 6704.8 | AA25: =IF(Замер!$J$60="да",Комната_3!$B25,0) -> 0 | AB25: =IF(Замер!$J$60="да",Комната_3!$G25,0) -> 11.9 | AC25: =IF(Замер!$J$60="да",Комната_3!$H25,0) -> 6878.2 | AE25: =IF(Замер!$J$80="да",Комната_4!$B25,0) -> 0 | AF25: =IF(Замер!$J$80="да",Комната_4!$G25,0) -> 11.3 | AG25: =IF(Замер!$J$80="да",Комната_4!$H25,0) -> 6531.4 | AI25: =IF(Замер!$J$100="да",Комната_5!$B25,0) -> 0 | AJ25: =IF(Замер!$J$100="да",Комната_5!$G25,0) -> 5.4 | AK25: =IF(Замер!$J$100="да",Комната_5!$H25,0) -> 3121.2 | AM25: =IF(Замер!$J$120="да",Коридор!$B25,0) -> 0 | AN25: =IF(Замер!$J$120="да",Коридор!$G25,0) -> 2.8 | AO25: =IF(Замер!$J$120="да",Коридор!$H25,0) -> 1618.4 | AQ25: =IF(Замер!$J$140="да",Кухня!$B25,0) -> 0 | AR25: =IF(Замер!$J$140="да",Кухня!$G25,0) -> 5.6 | AS25: =IF(Замер!$J$140="да",Кухня!$H25,0) -> 3236.8 | AU25: =IF(Замер!$J$160="да",Ванна!$B25,0) -> 0 | AV25: =IF(Замер!$J$160="да",Ванна!$G25,0) -> 2.5 | AW25: =IF(Замер!$J$160="да",Ванна!$H25,0) -> 1445 | AY25: =IF(Замер!$J$180="да",Туалет!$B25,0) -> 0 | AZ25: =IF(Замер!$J$180="да",Туалет!$G25,0) -> 0 | BA25: =IF(Замер!$J$180="да",Туалет!$H25,0) -> 0 | BC25: =IF(Замер!$J$200="да",Балкон!$B25,0) -> 0 | BD25: =IF(Замер!$J$200="да",Балкон!$G25,0) -> 0 | BE25: =IF(Замер!$J$200="да",Балкон!$H25,0) -> 0 | BG25: =IF(Замер!$J$220="да",Помещение_11!$B25,0) -> 0 | BH25: =IF(Замер!$J$220="да",Помещение_11!$G25,0) -> 0 | BI25: =IF(Замер!$J$220="да",Помещение_11!$H25,0) -> 0 | BK25: =IF(Замер!$J$240="да",Помещение_12!$B25,0) -> 0 | BL25: =IF(Замер!$J$240="да",Помещение_12!$G25,0) -> 0 | BM25: =IF(Замер!$J$240="да",Помещение_12!$H25,0) -> 0 | BO25: =IF(Замер!$J$260="да",Помещение_13!$B25,0) -> 0 | BP25: =IF(Замер!$J$260="да",Помещение_13!$G25,0) -> 0 | BQ25: =IF(Замер!$J$260="да",Помещение_13!$H25,0) -> 0 | BS25: =IF(Замер!$J$280="да",Помещение_14!$B25,0) -> 0 | BT25: =IF(Замер!$J$280="да",Помещение_14!$G25,0) -> 0 | BU25: =IF(Замер!$J$280="да",Помещение_14!$H25,0) -> 0 | BW25: =IF(Замер!$J$300="да",Помещение_15!$B25,0) -> 0 | BX25: =IF(Замер!$J$300="да",Помещение_15!$G25,0) -> 0 | BY25: =IF(Замер!$J$300="да",Помещение_15!$H25,0) -> 0 | CA25: =IF(Замер!$J$320="да",Помещение_16!$B25,0) -> 0 | CB25: =IF(Замер!$J$320="да",Помещение_16!$G25,0) -> 0 | CC25: =IF(Замер!$J$320="да",Помещение_16!$H25,0) -> 0 | CE25: =IF(Замер!$J$340="да",Помещение_17!$B25,0) -> 0 | CF25: =IF(Замер!$J$340="да",Помещение_17!$G25,0) -> 0 | CG25: =IF(Замер!$J$340="да",Помещение_17!$H25,0) -> 0 | CI25: =IF(Замер!$J$360="да",Помещение_18!$B25,0) -> 0 | CJ25: =IF(Замер!$J$360="да",Помещение_18!$G25,0) -> 0 | CK25: =IF(Замер!$J$360="да",Помещение_18!$H25,0) -> 0 | CM25: =IF(Замер!$J$380="да",Помещение_19!$B25,0) -> 0 | CN25: =IF(Замер!$J$380="да",Помещение_19!$G25,0) -> 0 | CO25: =IF(Замер!$J$380="да",Помещение_19!$H25,0) -> 0 | CQ25: =IF(Замер!$J$400="да",Помещение_20!$B25,0) -> 0 | CR25: =IF(Замер!$J$400="да",Помещение_20!$G25,0) -> 0 | CS25: =IF(Замер!$J$400="да",Помещение_20!$H25,0) -> 0
